BEGIN:VCALENDAR
VERSION:2.0
PRODID:-//CHO'S TAEKWONDO - ECPv6.3.3.1//NONSGML v1.0//EN
CALSCALE:GREGORIAN
METHOD:PUBLISH
X-WR-CALNAME:CHO'S TAEKWONDO
X-ORIGINAL-URL:https://chotkd.com
X-WR-CALDESC:Events for CHO'S TAEKWONDO
REFRESH-INTERVAL;VALUE=DURATION:PT1H
X-Robots-Tag:noindex
X-PUBLISHED-TTL:PT1H
BEGIN:VTIMEZONE
TZID:UTC
BEGIN:STANDARD
TZOFFSETFROM:+0000
TZOFFSETTO:+0000
TZNAME:UTC
DTSTART:20250101T000000
END:STANDARD
END:VTIMEZONE
BEGIN:VEVENT
DTSTART;TZID=UTC:20251212T190000
DTEND;TZID=UTC:20251212T220000
DTSTAMP:20260420T083209
CREATED:20251201T225448Z
LAST-MODIFIED:20251201T225448Z
UID:5821-1765566000-1765576800@chotkd.com
SUMMARY:Parent's Night Out
DESCRIPTION:Parent’s Night Out – Dec. 12th\, Friday 7-10pm. Fun event for students & non-students while parents have a night out. Includes exciting games and activities run by our own Master Bill\, with pizza and drinks. Discounts for multiple kids are available.
URL:https://chotkd.com/event/parents-night-out-13/
END:VEVENT
BEGIN:VEVENT
DTSTART;TZID=UTC:20251213T120000
DTEND;TZID=UTC:20251213T130000
DTSTAMP:20260420T083209
CREATED:20251201T225515Z
LAST-MODIFIED:20251201T225515Z
UID:5823-1765627200-1765630800@chotkd.com
SUMMARY:Group Belt Test
DESCRIPTION:Group Belt Test – Dec. 13th\, Sat. 12-1pm. Group belt test for all belts/ages. Schedule a private test if you cannot attend for $10 additional.
URL:https://chotkd.com/event/group-belt-test-4/
END:VEVENT
BEGIN:VEVENT
DTSTART;TZID=UTC:20251219T183000
DTEND;TZID=UTC:20251219T200000
DTSTAMP:20260420T083209
CREATED:20251201T225549Z
LAST-MODIFIED:20251201T225549Z
UID:5825-1766169000-1766174400@chotkd.com
SUMMARY:Cho’s TKD Christmas Party
DESCRIPTION:Cho’s TKD Christmas Party – Join us for our annual Christmas Party at the studio on Dec. 19th at 6:30pm. It will be potluck so bring your tasty dishes/drinks. There will be dancing\, games\, karaoke\, and prizes for everyone.
URL:https://chotkd.com/event/chos-tkd-christmas-party/
END:VEVENT
BEGIN:VEVENT
DTSTART;TZID=UTC:20251222T080000
DTEND;TZID=UTC:20251223T170000
DTSTAMP:20260420T083209
CREATED:20251201T225630Z
LAST-MODIFIED:20251201T225630Z
UID:5827-1766390400-1766509200@chotkd.com
SUMMARY:Winter Camps
DESCRIPTION:Winter Camps  – On Dec. 22nd & 23rd and Jan. 2nd & 5th we will offer Winter Camps for all regular students and After School Program members. Hours are 7am-6pm and cost $50 per day.
URL:https://chotkd.com/event/winter-camps-2/
END:VEVENT
BEGIN:VEVENT
DTSTART;VALUE=DATE:20251224
DTEND;VALUE=DATE:20260102
DTSTAMP:20260420T083209
CREATED:20251201T225654Z
LAST-MODIFIED:20251201T225654Z
UID:5829-1766534400-1767311999@chotkd.com
SUMMARY:Winter Break Schedule
DESCRIPTION:Winter Break Schedule – We will be CLOSED Dec. 24th to Jan. 1st with all classes and programs for Christmas Holiday. We will REOPEN Jan. 2nd. Please make up class a different day.
URL:https://chotkd.com/event/winter-break-schedule-3/
END:VEVENT
END:VCALENDAR