BEGIN:VCALENDAR
VERSION:2.0
PRODID:-//CHO'S TAEKWONDO - ECPv6.3.3.1//NONSGML v1.0//EN
CALSCALE:GREGORIAN
METHOD:PUBLISH
X-ORIGINAL-URL:https://chotkd.com
X-WR-CALDESC:Events for CHO'S TAEKWONDO
REFRESH-INTERVAL;VALUE=DURATION:PT1H
X-Robots-Tag:noindex
X-PUBLISHED-TTL:PT1H
BEGIN:VTIMEZONE
TZID:UTC
BEGIN:STANDARD
TZOFFSETFROM:+0000
TZOFFSETTO:+0000
TZNAME:UTC
DTSTART:20250101T000000
END:STANDARD
END:VTIMEZONE
BEGIN:VEVENT
DTSTART;TZID=UTC:20250903T150000
DTEND;TZID=UTC:20251031T183000
DTSTAMP:20260420T114500
CREATED:20250903T230913Z
LAST-MODIFIED:20251006T222611Z
UID:5743-1756911600-1761935400@chotkd.com
SUMMARY:After School Program
DESCRIPTION:After School Program – Join our affordable and active program. It includes daily pickup from school\, TaeKwonDo classes\, and care until the parent’s pick up by 6:30pm. Currently enrolling for existing schools in the program.
URL:https://chotkd.com/event/after-school-program-2/
END:VEVENT
BEGIN:VEVENT
DTSTART;VALUE=DATE:20251001
DTEND;VALUE=DATE:20251101
DTSTAMP:20260420T114500
CREATED:20251001T224058Z
LAST-MODIFIED:20251001T224058Z
UID:5775-1759276800-1761955199@chotkd.com
SUMMARY:Fall New Student Special
DESCRIPTION:Fall New Student Special – Refer all your friends to join and get special TKD gear! Any referred students can join with free uniform and free registration. Offer lasts until Oct. 31st.
URL:https://chotkd.com/event/fall-new-student-special/
END:VEVENT
BEGIN:VEVENT
DTSTART;VALUE=DATE:20251010
DTEND;VALUE=DATE:20251014
DTSTAMP:20260420T114500
CREATED:20251001T223921Z
LAST-MODIFIED:20251001T223921Z
UID:5769-1760054400-1760399999@chotkd.com
SUMMARY:Columbus Day Camps and Classes
DESCRIPTION:Holiday Day Camps – On Oct. 10th and 13th the schools will close so we will offer Day Camps for all ASP and regular students. Regular classes will also still be held those days.
URL:https://chotkd.com/event/columbus-day-camps-and-classes/
END:VEVENT
BEGIN:VEVENT
DTSTART;TZID=UTC:20251017T190000
DTEND;TZID=UTC:20251017T220000
DTSTAMP:20260420T114500
CREATED:20251001T224039Z
LAST-MODIFIED:20251003T214146Z
UID:5773-1760727600-1760738400@chotkd.com
SUMMARY:Parent's Night Out
DESCRIPTION:Parent’s Night Out – Oct. 17th\, Friday 7-10pm. Fun event for students & non-students while parents have a night out. Includes exciting games and activities run by our own Master Bill\, with pizza and drinks. Discounts for multiple kids are available so sign up during the week of PNO.
URL:https://chotkd.com/event/parents-night-out-11/
END:VEVENT
BEGIN:VEVENT
DTSTART;TZID=UTC:20251018T120000
DTEND;TZID=UTC:20251018T130000
DTSTAMP:20260420T114500
CREATED:20251001T223959Z
LAST-MODIFIED:20251001T223959Z
UID:5771-1760788800-1760792400@chotkd.com
SUMMARY:October Belt Test
DESCRIPTION:Group Belt Test – Oct. 18th\, Sat. 12-1pm. Group belt test for all belts/ages. Schedule a private test if you cannot attend for $10 additional.
URL:https://chotkd.com/event/october-belt-test/
END:VEVENT
BEGIN:VEVENT
DTSTART;VALUE=DATE:20251029
DTEND;VALUE=DATE:20251201
DTSTAMP:20260420T114500
CREATED:20251029T221826Z
LAST-MODIFIED:20251029T221826Z
UID:5805-1761696000-1764547199@chotkd.com
SUMMARY:Black Friday New Student Special
DESCRIPTION:Black Friday New Student Special – Refer all of your friends to join and get special TKD gear! Any referred students can join with only $10 for the 1st 2 weeks of classes. Offer lasts until Nov. 30th.
URL:https://chotkd.com/event/black-friday-new-student-special/
END:VEVENT
END:VCALENDAR