BEGIN:VCALENDAR
VERSION:2.0
PRODID:-//CHO'S TAEKWONDO - ECPv6.3.3.1//NONSGML v1.0//EN
CALSCALE:GREGORIAN
METHOD:PUBLISH
X-ORIGINAL-URL:https://chotkd.com
X-WR-CALDESC:Events for CHO'S TAEKWONDO
REFRESH-INTERVAL;VALUE=DURATION:PT1H
X-Robots-Tag:noindex
X-PUBLISHED-TTL:PT1H
BEGIN:VTIMEZONE
TZID:UTC
BEGIN:STANDARD
TZOFFSETFROM:+0000
TZOFFSETTO:+0000
TZNAME:UTC
DTSTART:20250101T000000
END:STANDARD
END:VTIMEZONE
BEGIN:VEVENT
DTSTART;VALUE=DATE:20250527
DTEND;VALUE=DATE:20250813
DTSTAMP:20260420T144406
CREATED:20250502T224450Z
LAST-MODIFIED:20250530T222308Z
UID:5609-1748304000-1755043199@chotkd.com
SUMMARY:Summer Camps
DESCRIPTION:Summer Camps – all summer long from May 27 – Aug. 12. Camps include TaeKwonDo classes\, games\, activities\, and field trips to movies\, swimming pools\, museums\, & others. Have an affordable and active summer!
URL:https://chotkd.com/event/summer-camps/
END:VEVENT
BEGIN:VEVENT
DTSTART;VALUE=DATE:20250731
DTEND;VALUE=DATE:20250901
DTSTAMP:20260420T144406
CREATED:20250731T224410Z
LAST-MODIFIED:20250731T224410Z
UID:5688-1753920000-1756684799@chotkd.com
SUMMARY:After School Program
DESCRIPTION:After School Program – School starts Aug. 13! Join our affordable and active program. It includes daily pickup from school\, TaeKwonDo classes\, and care until the parent’s pick up by 6:30pm. Programs held at BOTH locations and it’s surrounding schools. Register now to secure your spot.
URL:https://chotkd.com/event/after-school-program/
END:VEVENT
BEGIN:VEVENT
DTSTART;TZID=UTC:20250816T120000
DTEND;TZID=UTC:20250816T130000
DTSTAMP:20260420T144406
CREATED:20250731T224455Z
LAST-MODIFIED:20250731T224455Z
UID:5690-1755345600-1755349200@chotkd.com
SUMMARY:Group Belt Tests – Aug. 16th
DESCRIPTION:Group Belt Tests – Aug. 16th and Aug. 30th\, Sat. 12-1 PM. Group belt test for all belts/ages. Schedule a private test if you cannot attend for $10 additional.
URL:https://chotkd.com/event/group-belt-tests-aug-16th/
END:VEVENT
BEGIN:VEVENT
DTSTART;TZID=UTC:20250822T190000
DTEND;TZID=UTC:20250822T220000
DTSTAMP:20260420T144406
CREATED:20250731T224622Z
LAST-MODIFIED:20250731T224622Z
UID:5694-1755889200-1755900000@chotkd.com
SUMMARY:Parent's Night Out
DESCRIPTION:Parent’s Night Out – Aug. 22nd\, Friday 7-10 PM. Fun event for students & non-students while parents have a night out. Includes exciting games and activities run by our own Master Bill\, with pizza and drinks. Discounts for multiple kids are available.
URL:https://chotkd.com/event/parents-night-out-9/
END:VEVENT
BEGIN:VEVENT
DTSTART;TZID=UTC:20250823T130000
DTEND;TZID=UTC:20250823T170000
DTSTAMP:20260420T144406
CREATED:20250818T214659Z
LAST-MODIFIED:20250818T214659Z
UID:5717-1755954000-1755968400@chotkd.com
SUMMARY:Tournament Team TNT Tryouts
DESCRIPTION:*August 23rd at 1pm at 27326 Robinson Rd.* \nIt is FREE to tryout! Join The TNT Tournament Team which has numerous national\, regional\, and local titles. Led by our Master Bill who is nationally certified as a coach with more than 20 years’ experience. \nGreat opportunity for a challenge\, higher level training\, and competitive experience. \nContact Master Bill for more info.: 832-465-0552
URL:https://chotkd.com/event/tournament-team-tnt-tryouts-2/
END:VEVENT
BEGIN:VEVENT
DTSTART;TZID=UTC:20250830T120000
DTEND;TZID=UTC:20250830T130000
DTSTAMP:20260420T144406
CREATED:20250731T224525Z
LAST-MODIFIED:20250731T224525Z
UID:5692-1756555200-1756558800@chotkd.com
SUMMARY:Group Blet Tests - Aug. 30th
DESCRIPTION:Group Belt Tests – Aug. 16th and Aug. 30th\, Sat. 12-1 PM. Group belt test for all belts/ages. Schedule a private test if you cannot attend for $10 additional.
URL:https://chotkd.com/event/group-blet-tests-aug-30th/
END:VEVENT
END:VCALENDAR