BEGIN:VCALENDAR
VERSION:2.0
PRODID:-//CHO'S TAEKWONDO - ECPv6.3.3.1//NONSGML v1.0//EN
CALSCALE:GREGORIAN
METHOD:PUBLISH
X-WR-CALNAME:CHO'S TAEKWONDO
X-ORIGINAL-URL:https://chotkd.com
X-WR-CALDESC:Events for CHO'S TAEKWONDO
REFRESH-INTERVAL;VALUE=DURATION:PT1H
X-Robots-Tag:noindex
X-PUBLISHED-TTL:PT1H
BEGIN:VTIMEZONE
TZID:UTC
BEGIN:STANDARD
TZOFFSETFROM:+0000
TZOFFSETTO:+0000
TZNAME:UTC
DTSTART:20250101T000000
END:STANDARD
END:VTIMEZONE
BEGIN:VEVENT
DTSTART;TZID=UTC:20250502T080000
DTEND;TZID=UTC:20250502T170000
DTSTAMP:20260420T192121
CREATED:20250502T224600Z
LAST-MODIFIED:20250502T224600Z
UID:5613-1746172800-1746205200@chotkd.com
SUMMARY:Group Belt Test 24th
DESCRIPTION:Group Belt Test – May 24\, Sat 12-1 PM. Group belt test for all belts/ages. Schedule a private test if you can’t attend for $10 additional.
URL:https://chotkd.com/event/group-belt-test-24th/
END:VEVENT
BEGIN:VEVENT
DTSTART;TZID=UTC:20250502T080000
DTEND;TZID=UTC:20250502T170000
DTSTAMP:20260420T192121
CREATED:20250502T224615Z
LAST-MODIFIED:20250502T224615Z
UID:5615-1746172800-1746205200@chotkd.com
SUMMARY:Memorial Day CLOSED
DESCRIPTION:Memorial Day – On May 26 Memorial Day\, we will be closed with no classes\, programs\, or camps.
URL:https://chotkd.com/event/memorial-day-closed-3/
END:VEVENT
BEGIN:VEVENT
DTSTART;TZID=UTC:20250502T080000
DTEND;TZID=UTC:20250502T170000
DTSTAMP:20260420T192121
CREATED:20250502T224630Z
LAST-MODIFIED:20250502T224630Z
UID:5617-1746172800-1746205200@chotkd.com
SUMMARY:Parent's Night Out
DESCRIPTION:Parent’s Night Out – May 30\, Fri 7-10 PM. Fun event for students & non-students while parents have a night out. Includes exciting games and activities run by our own Master Bill\, with pizza and drinks. Discounts for multiple kids are available.
URL:https://chotkd.com/event/parents-night-out-6/
END:VEVENT
BEGIN:VEVENT
DTSTART;TZID=UTC:20250510T120000
DTEND;TZID=UTC:20250510T130000
DTSTAMP:20260420T192121
CREATED:20250502T224543Z
LAST-MODIFIED:20250502T224543Z
UID:5611-1746878400-1746882000@chotkd.com
SUMMARY:Group Belt Test 10th
DESCRIPTION:Group Belt Test – May 10\, Sat 12-1 PM. Group belt test for all belts/ages. Schedule a private test if you can’t attend for $10 additional.
URL:https://chotkd.com/event/group-belt-test-10th/
END:VEVENT
BEGIN:VEVENT
DTSTART;TZID=UTC:20250524T120000
DTEND;TZID=UTC:20250524T130000
DTSTAMP:20260420T192121
CREATED:20250502T224710Z
LAST-MODIFIED:20250502T224730Z
UID:5619-1748088000-1748091600@chotkd.com
SUMMARY:Group Belt Test 24th
DESCRIPTION:Group Belt Test – May 24\, Sat 12-1 PM. Group belt test for all belts/ages. Schedule a private test if you can’t attend for $10 additional.
URL:https://chotkd.com/event/group-belt-test-24th-2/
END:VEVENT
BEGIN:VEVENT
DTSTART;VALUE=DATE:20250526
DTEND;VALUE=DATE:20250527
DTSTAMP:20260420T192121
CREATED:20250502T224811Z
LAST-MODIFIED:20250502T224811Z
UID:5621-1748217600-1748303999@chotkd.com
SUMMARY:Memorial Day CLOSED
DESCRIPTION:Memorial Day – On May 26 Memorial Day\, we will be closed with no classes\, programs\, or camps.
URL:https://chotkd.com/event/memorial-day-closed-4/
END:VEVENT
BEGIN:VEVENT
DTSTART;VALUE=DATE:20250527
DTEND;VALUE=DATE:20250813
DTSTAMP:20260420T192121
CREATED:20250502T224450Z
LAST-MODIFIED:20250530T222308Z
UID:5609-1748304000-1755043199@chotkd.com
SUMMARY:Summer Camps
DESCRIPTION:Summer Camps – all summer long from May 27 – Aug. 12. Camps include TaeKwonDo classes\, games\, activities\, and field trips to movies\, swimming pools\, museums\, & others. Have an affordable and active summer!
URL:https://chotkd.com/event/summer-camps/
END:VEVENT
BEGIN:VEVENT
DTSTART;VALUE=DATE:20250530
DTEND;VALUE=DATE:20250701
DTSTAMP:20260420T192121
CREATED:20250530T222510Z
LAST-MODIFIED:20250530T222510Z
UID:5633-1748563200-1751327999@chotkd.com
SUMMARY:New Student Referral Special
DESCRIPTION:New Student Special – Tell all your friends that new students get their 1st Month $50 off with free uniform and free registration. You will get free gear with the referral!
URL:https://chotkd.com/event/new-student-referral-special/
END:VEVENT
BEGIN:VEVENT
DTSTART;TZID=UTC:20250530T190000
DTEND;TZID=UTC:20250530T220000
DTSTAMP:20260420T192121
CREATED:20250502T224842Z
LAST-MODIFIED:20250502T224842Z
UID:5623-1748631600-1748642400@chotkd.com
SUMMARY:Parent's Night Out
DESCRIPTION:Parent’s Night Out – May 30\, Fri 7-10 PM. Fun event for students & non-students while parents have a night out. Includes exciting games and activities run by our own Master Bill\, with pizza and drinks. Discounts for multiple kids are available.
URL:https://chotkd.com/event/parents-night-out-7/
END:VEVENT
END:VCALENDAR