BEGIN:VCALENDAR
VERSION:2.0
PRODID:-//CHO'S TAEKWONDO - ECPv6.3.3.1//NONSGML v1.0//EN
CALSCALE:GREGORIAN
METHOD:PUBLISH
X-ORIGINAL-URL:https://chotkd.com
X-WR-CALDESC:Events for CHO'S TAEKWONDO
REFRESH-INTERVAL;VALUE=DURATION:PT1H
X-Robots-Tag:noindex
X-PUBLISHED-TTL:PT1H
BEGIN:VTIMEZONE
TZID:UTC
BEGIN:STANDARD
TZOFFSETFROM:+0000
TZOFFSETTO:+0000
TZNAME:UTC
DTSTART:20250101T000000
END:STANDARD
END:VTIMEZONE
BEGIN:VEVENT
DTSTART;VALUE=DATE:20250206
DTEND;VALUE=DATE:20250301
DTSTAMP:20260420T175418
CREATED:20250206T214656Z
LAST-MODIFIED:20250206T214750Z
UID:5527-1738800000-1740787199@chotkd.com
SUMMARY:New Student Special
DESCRIPTION:New Student Special – Tell all your family and friends about our New Student Special where new students get their 1st 30 days FREE with free uniform and free registration. You get free special gear with the referral when they sign up!
URL:https://chotkd.com/event/new-student-special-february/
END:VEVENT
BEGIN:VEVENT
DTSTART;VALUE=DATE:20250214
DTEND;VALUE=DATE:20250218
DTSTAMP:20260420T175418
CREATED:20250211T181422Z
LAST-MODIFIED:20250211T181422Z
UID:5535-1739491200-1739836799@chotkd.com
SUMMARY:Classes and President's Day Camps
DESCRIPTION:We will be OPEN with classes at both locations and also camps at main location on Feb. 14 & 17\, Fri & Mon. Please attend classes and sign up for day camps for these days.\n\n\nDay camps are 8:30am-2:30pm (free extended hours 7am-6pm) and priced $45/day with After School Program members priced $25/day. It includes multiple TaeKwonDo Classes and fun activities for the whole day. Non-students are also welcome so invite all your friends!
URL:https://chotkd.com/event/classes-and-presidents-day-camps/
END:VEVENT
BEGIN:VEVENT
DTSTART;TZID=UTC:20250215T120000
DTEND;TZID=UTC:20250215T130000
DTSTAMP:20260420T175418
CREATED:20250206T214559Z
LAST-MODIFIED:20250206T214806Z
UID:5523-1739620800-1739624400@chotkd.com
SUMMARY:Belt Test
DESCRIPTION:Belt Test – Feb. 15th\, Sat 12-1 PM. Group belt test for all belts/ages. The only belt test this month. Schedule a private test if you can’t attend.
URL:https://chotkd.com/event/belt-test-february/
END:VEVENT
BEGIN:VEVENT
DTSTART;TZID=UTC:20250221T190000
DTEND;TZID=UTC:20250221T220000
DTSTAMP:20260420T175418
CREATED:20250206T214627Z
LAST-MODIFIED:20250206T214733Z
UID:5525-1740164400-1740175200@chotkd.com
SUMMARY:Parent's Night Out
DESCRIPTION:Parent’s Night Out – Feb. 21st\, Fri 7-10 PM. Fun event for students & non-students while parents have a night out. Includes exciting games and activities run by our own Master Bill\, with pizza and drinks. Discounts for multiple kids are available so be sure to sign up and bring all your friends!
URL:https://chotkd.com/event/parents-night-out-february/
END:VEVENT
BEGIN:VEVENT
DTSTART;TZID=UTC:20250222T130000
DTEND;TZID=UTC:20250222T160000
DTSTAMP:20260420T175418
CREATED:20250115T001755Z
LAST-MODIFIED:20250115T001755Z
UID:5498-1740229200-1740240000@chotkd.com
SUMMARY:INNER SCHOOL TOURNAMENT
DESCRIPTION:Compete in our INNER SCHOOL TOURNAMENT and go for the Gold Medal! This is a competition against your fellow students to see who is the best in different categories in forms\, board breaking\, and sparring competitions. Train and practice in your belt level to compete against each other in these exciting events.\n\n\nWe encourage all of our students to compete and try even if it’s your first time!\n\n\nSCHEDULE: FEBRUARY 22nd\, Sat. 1:00-4:00 PM \n1:00-2:30 PM – FORMS & BOARD BREAKING \n2:30-4:00 PM – SPARRING \nCOMPETITOR ENTRY FEE: $60    (Up to 2 Events\, $25 additional event) \nBOARD BREAKING: (White-Purple Belts): $7\, 2 Boards \n(Blue-Black Belts):  $10\, 3 Boards \nSPECTATOR FEE: $8 Each (Includes a bottled water & chips) \nEVENTS TO BE ENTERED: \n1. FORMS 2. BOARD BREAKING 3. SPARRING \nDivision by: Age\, Gender\, Belt & Size \nWhere: Cho’s TaeKwonDo Academy \n27326 Robinson Rd. #120\, Oak Ridge N.\, TX 77385 \nPRE-REGISTER ONLINE @ www.chotkd.com OR in Person \nCONTACT: Master Bill 832-465-0552 / Master Cho 832-212-3339 \nEmail: chotkd1@gmail.com \nHOSTED BY: Cho’s TaeKwonDo Academy
URL:https://chotkd.com/event/inner-school-tournament-5/
END:VEVENT
END:VCALENDAR