BEGIN:VCALENDAR
VERSION:2.0
PRODID:-//CHO'S TAEKWONDO - ECPv6.3.3.1//NONSGML v1.0//EN
CALSCALE:GREGORIAN
METHOD:PUBLISH
X-ORIGINAL-URL:https://chotkd.com
X-WR-CALDESC:Events for CHO'S TAEKWONDO
REFRESH-INTERVAL;VALUE=DURATION:PT1H
X-Robots-Tag:noindex
X-PUBLISHED-TTL:PT1H
BEGIN:VTIMEZONE
TZID:UTC
BEGIN:STANDARD
TZOFFSETFROM:+0000
TZOFFSETTO:+0000
TZNAME:UTC
DTSTART:20240101T000000
END:STANDARD
END:VTIMEZONE
BEGIN:VEVENT
DTSTART;TZID=UTC:20240605T080000
DTEND;TZID=UTC:20240813T170000
DTSTAMP:20260420T085226
CREATED:20240605T225509Z
LAST-MODIFIED:20240605T225509Z
UID:5093-1717574400-1723568400@chotkd.com
SUMMARY:Summer Camp Ongoing
DESCRIPTION:Summer Camp –Sign up now for our ongoing affordable and exciting Summer Camp which runs until Aug. 13th. Includes multiple TaeKwonDo classes\, fun activities\, and planned field trips to the swimming pool\, movies\, and others.
URL:https://chotkd.com/event/summer-camp-ongoing/
END:VEVENT
BEGIN:VEVENT
DTSTART;VALUE=DATE:20240807
DTEND;VALUE=DATE:20240831
DTSTAMP:20260420T085226
CREATED:20240807T221406Z
LAST-MODIFIED:20240807T221406Z
UID:5165-1722988800-1725062399@chotkd.com
SUMMARY:Back to School Special!
DESCRIPTION:Back to School Special – Tell your friends about our deal: free trial\, free uniform\, and first week of classes free! Receive free gear when you refer a friend. Bring as many friends as you like!
URL:https://chotkd.com/event/back-to-school-special-2/
END:VEVENT
BEGIN:VEVENT
DTSTART;VALUE=DATE:20240814
DTEND;VALUE=DATE:20240815
DTSTAMP:20260420T085226
CREATED:20240807T220749Z
LAST-MODIFIED:20240807T220749Z
UID:5157-1723593600-1723679999@chotkd.com
SUMMARY:School / After School Program Starts
DESCRIPTION:School / After School Program Starts – all CISD schools start Aug 14th\, and our excellent and affordable ASP starts also. Join our ASP which provides daily TaeKwonDo classes and care.
URL:https://chotkd.com/event/school-after-school-program-starts/
END:VEVENT
BEGIN:VEVENT
DTSTART;TZID=UTC:20240823T190000
DTEND;TZID=UTC:20240823T220000
DTSTAMP:20260420T085226
CREATED:20240807T220832Z
LAST-MODIFIED:20240807T220844Z
UID:5159-1724439600-1724450400@chotkd.com
SUMMARY:Parents Night Out Aug 23rd
DESCRIPTION:Parents Night Out – Aug. 23rd\, Fri. 7-10 PM. Fun event for students & non-students. Includes fun games and contests run by Master Bill\, with pizza and drink. Discounts for multiple kids!
URL:https://chotkd.com/event/parents-night-out-aug-23rd/
END:VEVENT
BEGIN:VEVENT
DTSTART;TZID=UTC:20240824T120000
DTEND;TZID=UTC:20240824T130000
DTSTAMP:20260420T085226
CREATED:20240807T221318Z
LAST-MODIFIED:20240807T221318Z
UID:5161-1724500800-1724504400@chotkd.com
SUMMARY:Belt Test Aug 24th
DESCRIPTION:Belt Test – Aug. 24th\, Sat. 12-1 PM. Group belt test for all belts/ages. If you can’t make it\, schedule a private test for $10 additional. *There will only be one group belt test this month.
URL:https://chotkd.com/event/belt-test-aug-24th/
END:VEVENT
BEGIN:VEVENT
DTSTART;TZID=UTC:20240824T140000
DTEND;TZID=UTC:20240824T180000
DTSTAMP:20260420T085226
CREATED:20240807T221345Z
LAST-MODIFIED:20240807T221345Z
UID:5163-1724508000-1724522400@chotkd.com
SUMMARY:Tournament Team TNT Tryouts
DESCRIPTION:Tournament Team TNT Tryouts – Aug. 24th 2-6 PM. Tryout for our excellent tournament team for your chance to compete in local\, state\, and national competitions.  It is free to try out so don’t miss this chance!
URL:https://chotkd.com/event/tournament-team-tnt-tryouts/
END:VEVENT
END:VCALENDAR