BEGIN:VCALENDAR
VERSION:2.0
PRODID:-//CHO'S TAEKWONDO - ECPv6.3.3.1//NONSGML v1.0//EN
CALSCALE:GREGORIAN
METHOD:PUBLISH
X-ORIGINAL-URL:https://chotkd.com
X-WR-CALDESC:Events for CHO'S TAEKWONDO
REFRESH-INTERVAL;VALUE=DURATION:PT1H
X-Robots-Tag:noindex
X-PUBLISHED-TTL:PT1H
BEGIN:VTIMEZONE
TZID:UTC
BEGIN:STANDARD
TZOFFSETFROM:+0000
TZOFFSETTO:+0000
TZNAME:UTC
DTSTART:20230101T000000
END:STANDARD
END:VTIMEZONE
BEGIN:VEVENT
DTSTART;TZID=UTC:20230609T070000
DTEND;TZID=UTC:20230808T180000
DTSTAMP:20260419T153802
CREATED:20230609T223523Z
LAST-MODIFIED:20230609T223523Z
UID:4514-1686294000-1691517600@chotkd.com
SUMMARY:Summer Camps Ongoing
DESCRIPTION:Summer Camps Ongoing – May 30th – Aug. 8th.  Join our fun and affordable Summer Camp for your kids to stay active all throughout Summer. Includes class and activities all day.
URL:https://chotkd.com/event/summer-camps-ongoing/
END:VEVENT
BEGIN:VEVENT
DTSTART;TZID=UTC:20230609T080000
DTEND;TZID=UTC:20230731T170000
DTSTAMP:20260419T153802
CREATED:20230609T223624Z
LAST-MODIFIED:20230609T223624Z
UID:4518-1686297600-1690822800@chotkd.com
SUMMARY:No Buddy Camps
DESCRIPTION:No Buddy Camps – There will be no Buddy Camps / Parents Night Out this Summer since we already have Summer Camps.
URL:https://chotkd.com/event/no-buddy-camps/
END:VEVENT
BEGIN:VEVENT
DTSTART;TZID=UTC:20230610T120000
DTEND;TZID=UTC:20230610T130000
DTSTAMP:20260419T153802
CREATED:20230609T223443Z
LAST-MODIFIED:20230609T223443Z
UID:4512-1686398400-1686402000@chotkd.com
SUMMARY:Belt Test
DESCRIPTION:Belt Test – June 10th\,  Sat. 12-1 PM.  Belt test for all belts/ages. Please pay before test day.
URL:https://chotkd.com/event/belt-test-8/
END:VEVENT
BEGIN:VEVENT
DTSTART;TZID=UTC:20230624T120000
DTEND;TZID=UTC:20230624T130000
DTSTAMP:20260419T153802
CREATED:20230609T223553Z
LAST-MODIFIED:20230609T223553Z
UID:4516-1687608000-1687611600@chotkd.com
SUMMARY:Belt Test
DESCRIPTION:June 24th\,  Sat. 12-1 PM.  Belt test for all belts/ages. Please pay before test day.
URL:https://chotkd.com/event/belt-test-9/
END:VEVENT
END:VCALENDAR