BEGIN:VCALENDAR
VERSION:2.0
PRODID:-//CHO'S TAEKWONDO - ECPv6.3.3.1//NONSGML v1.0//EN
CALSCALE:GREGORIAN
METHOD:PUBLISH
X-ORIGINAL-URL:https://chotkd.com
X-WR-CALDESC:Events for CHO'S TAEKWONDO
REFRESH-INTERVAL;VALUE=DURATION:PT1H
X-Robots-Tag:noindex
X-PUBLISHED-TTL:PT1H
BEGIN:VTIMEZONE
TZID:UTC
BEGIN:STANDARD
TZOFFSETFROM:+0000
TZOFFSETTO:+0000
TZNAME:UTC
DTSTART:20250101T000000
END:STANDARD
END:VTIMEZONE
BEGIN:VEVENT
DTSTART;VALUE=DATE:20251224
DTEND;VALUE=DATE:20260102
DTSTAMP:20260420T101442
CREATED:20251201T225654Z
LAST-MODIFIED:20251201T225654Z
UID:5829-1766534400-1767311999@chotkd.com
SUMMARY:Winter Break Schedule
DESCRIPTION:Winter Break Schedule – We will be CLOSED Dec. 24th to Jan. 1st with all classes and programs for Christmas Holiday. We will REOPEN Jan. 2nd. Please make up class a different day.
URL:https://chotkd.com/event/winter-break-schedule-3/
END:VEVENT
END:VCALENDAR