BEGIN:VCALENDAR
VERSION:2.0
PRODID:-//CHO'S TAEKWONDO - ECPv6.3.3.1//NONSGML v1.0//EN
CALSCALE:GREGORIAN
METHOD:PUBLISH
X-WR-CALNAME:CHO'S TAEKWONDO
X-ORIGINAL-URL:https://chotkd.com
X-WR-CALDESC:Events for CHO'S TAEKWONDO
REFRESH-INTERVAL;VALUE=DURATION:PT1H
X-Robots-Tag:noindex
X-PUBLISHED-TTL:PT1H
BEGIN:VTIMEZONE
TZID:UTC
BEGIN:STANDARD
TZOFFSETFROM:+0000
TZOFFSETTO:+0000
TZNAME:UTC
DTSTART:20250101T000000
END:STANDARD
END:VTIMEZONE
BEGIN:VEVENT
DTSTART;VALUE=DATE:20250401
DTEND;VALUE=DATE:20250501
DTSTAMP:20260420T224810
CREATED:20250331T221609Z
LAST-MODIFIED:20250331T221609Z
UID:5594-1743465600-1746057599@chotkd.com
SUMMARY:Refer a Friend Special
DESCRIPTION:Refer a Friend / New Student Special – Tell all your friends that new students get their 1st Month for $50 with free uniform and free registration. You get free gear with the referral!
URL:https://chotkd.com/event/refer-a-friend-special-2/
END:VEVENT
BEGIN:VEVENT
DTSTART;TZID=UTC:20250425T190000
DTEND;TZID=UTC:20250425T220000
DTSTAMP:20260420T224810
CREATED:20250331T221416Z
LAST-MODIFIED:20250331T221416Z
UID:5588-1745607600-1745618400@chotkd.com
SUMMARY:Parent's Night Out
DESCRIPTION:Parent’s Night Out – Apr. 25\, Fri 7-10 PM. Fun event for students & non-students while parents have a night out. Includes exciting games and activities run by our own Master Bill\, with pizza and drinks. Discounts for multiple kids are available.
URL:https://chotkd.com/event/parents-night-out-5/
END:VEVENT
END:VCALENDAR