BEGIN:VCALENDAR
VERSION:2.0
PRODID:-//CHO'S TAEKWONDO - ECPv6.3.3.1//NONSGML v1.0//EN
CALSCALE:GREGORIAN
METHOD:PUBLISH
X-ORIGINAL-URL:https://chotkd.com
X-WR-CALDESC:Events for CHO'S TAEKWONDO
REFRESH-INTERVAL;VALUE=DURATION:PT1H
X-Robots-Tag:noindex
X-PUBLISHED-TTL:PT1H
BEGIN:VTIMEZONE
TZID:UTC
BEGIN:STANDARD
TZOFFSETFROM:+0000
TZOFFSETTO:+0000
TZNAME:UTC
DTSTART:20250101T000000
END:STANDARD
END:VTIMEZONE
BEGIN:VEVENT
DTSTART;TZID=UTC:20250305T070000
DTEND;TZID=UTC:20250331T180000
DTSTAMP:20260420T211129
CREATED:20250305T235130Z
LAST-MODIFIED:20250305T235130Z
UID:5551-1741158000-1743444000@chotkd.com
SUMMARY:New Student Special
DESCRIPTION:New Student Special – Tell all your friends new students get their 1st Month for $50 with free uniform and free registration. You get free gear with the referral!
URL:https://chotkd.com/event/new-student-special-2/
END:VEVENT
BEGIN:VEVENT
DTSTART;TZID=UTC:20250321T190000
DTEND;TZID=UTC:20250321T220000
DTSTAMP:20260420T211129
CREATED:20250305T234656Z
LAST-MODIFIED:20250305T234656Z
UID:5545-1742583600-1742594400@chotkd.com
SUMMARY:Parents Night Out March
DESCRIPTION:Parent’s Night Out – Mar. 21\, Fri 7-10 PM. Fun event for students & non-students while parents have a night out. Includes exciting games and activities run by our own Master Bill\, with pizza and drinks. Discounts for multiple kids are available so be sure to sign up and bring all your friends!
URL:https://chotkd.com/event/parents-night-out-march/
END:VEVENT
END:VCALENDAR