BEGIN:VCALENDAR
VERSION:2.0
PRODID:-//CHO'S TAEKWONDO - ECPv6.3.3.1//NONSGML v1.0//EN
CALSCALE:GREGORIAN
METHOD:PUBLISH
X-ORIGINAL-URL:https://chotkd.com
X-WR-CALDESC:Events for CHO'S TAEKWONDO
REFRESH-INTERVAL;VALUE=DURATION:PT1H
X-Robots-Tag:noindex
X-PUBLISHED-TTL:PT1H
BEGIN:VTIMEZONE
TZID:UTC
BEGIN:STANDARD
TZOFFSETFROM:+0000
TZOFFSETTO:+0000
TZNAME:UTC
DTSTART:20250101T000000
END:STANDARD
END:VTIMEZONE
BEGIN:VEVENT
DTSTART;VALUE=DATE:20250103
DTEND;VALUE=DATE:20250201
DTSTAMP:20260420T175251
CREATED:20250103T225508Z
LAST-MODIFIED:20250103T225508Z
UID:5470-1735862400-1738367999@chotkd.com
SUMMARY:New Year Special
DESCRIPTION:New Year New Student Special – Tell all your family and friends about our New Year Special where new students get their 1st month for only $50 with free uniform and free registration. You get free special gear when they sign up! \n*Ends January 31st!
URL:https://chotkd.com/event/new-year-special/
END:VEVENT
BEGIN:VEVENT
DTSTART;TZID=UTC:20250125T120000
DTEND;TZID=UTC:20250125T130000
DTSTAMP:20260420T175251
CREATED:20250103T225433Z
LAST-MODIFIED:20250103T225433Z
UID:5468-1737806400-1737810000@chotkd.com
SUMMARY:Belt Test
DESCRIPTION:Belt Test – Jan. 25\, Sat 12-1 PM. Group belt test for all belts/ages. The only belt test this month. Schedule a private test if you can’t attend.
URL:https://chotkd.com/event/belt-test-11/
END:VEVENT
END:VCALENDAR