BEGIN:VCALENDAR
VERSION:2.0
PRODID:-//CHO'S TAEKWONDO - ECPv6.3.3.1//NONSGML v1.0//EN
CALSCALE:GREGORIAN
METHOD:PUBLISH
X-ORIGINAL-URL:https://chotkd.com
X-WR-CALDESC:Events for CHO'S TAEKWONDO
REFRESH-INTERVAL;VALUE=DURATION:PT1H
X-Robots-Tag:noindex
X-PUBLISHED-TTL:PT1H
BEGIN:VTIMEZONE
TZID:UTC
BEGIN:STANDARD
TZOFFSETFROM:+0000
TZOFFSETTO:+0000
TZNAME:UTC
DTSTART:20240101T000000
END:STANDARD
END:VTIMEZONE
BEGIN:VEVENT
DTSTART;VALUE=DATE:20241125
DTEND;VALUE=DATE:20241201
DTSTAMP:20260420T144524
CREATED:20241025T230212Z
LAST-MODIFIED:20241025T230212Z
UID:5414-1732492800-1733011199@chotkd.com
SUMMARY:Thanksgiving Week
DESCRIPTION:Thanksgiving Week – OPEN with classes and day camps Mon\, Tues\, Wed Nov. 25-27 & classes on Sat Nov. 30. We will be CLOSED all classes and programs Nov. 28 & 29 Thurs & Fri. We hope everyone has a great Thanksgiving with your loved ones!
URL:https://chotkd.com/event/thanksgiving-week/
END:VEVENT
END:VCALENDAR