BEGIN:VCALENDAR
VERSION:2.0
PRODID:-//CHO'S TAEKWONDO - ECPv6.3.3.1//NONSGML v1.0//EN
CALSCALE:GREGORIAN
METHOD:PUBLISH
X-ORIGINAL-URL:https://chotkd.com
X-WR-CALDESC:Events for CHO'S TAEKWONDO
REFRESH-INTERVAL;VALUE=DURATION:PT1H
X-Robots-Tag:noindex
X-PUBLISHED-TTL:PT1H
BEGIN:VTIMEZONE
TZID:UTC
BEGIN:STANDARD
TZOFFSETFROM:+0000
TZOFFSETTO:+0000
TZNAME:UTC
DTSTART:20240101T000000
END:STANDARD
END:VTIMEZONE
BEGIN:VEVENT
DTSTART;TZID=UTC:20241122T190000
DTEND;TZID=UTC:20241122T220000
DTSTAMP:20260420T144406
CREATED:20241025T230125Z
LAST-MODIFIED:20241025T230125Z
UID:5412-1732302000-1732312800@chotkd.com
SUMMARY:Parent's Night Out
DESCRIPTION:Parent’s Night Out – Nov. 22\, 7-10 PM. Fun event for students & non-students while parents have a night out. Includes exciting games and contests run by our own Master Bill\, with pizza and drinks. Discounts for multiple kids available so be sure to sign up! Bring all your friends!
URL:https://chotkd.com/event/parents-night-out-3/
END:VEVENT
END:VCALENDAR