BEGIN:VCALENDAR
VERSION:2.0
PRODID:-//CHO'S TAEKWONDO - ECPv6.3.3.1//NONSGML v1.0//EN
CALSCALE:GREGORIAN
METHOD:PUBLISH
X-ORIGINAL-URL:https://chotkd.com
X-WR-CALDESC:Events for CHO'S TAEKWONDO
REFRESH-INTERVAL;VALUE=DURATION:PT1H
X-Robots-Tag:noindex
X-PUBLISHED-TTL:PT1H
BEGIN:VTIMEZONE
TZID:UTC
BEGIN:STANDARD
TZOFFSETFROM:+0000
TZOFFSETTO:+0000
TZNAME:UTC
DTSTART:20240101T000000
END:STANDARD
END:VTIMEZONE
BEGIN:VEVENT
DTSTART;VALUE=DATE:20241104
DTEND;VALUE=DATE:20241106
DTSTAMP:20260420T144453
CREATED:20241025T230031Z
LAST-MODIFIED:20241025T230031Z
UID:5408-1730678400-1730851199@chotkd.com
SUMMARY:Election Days Open
DESCRIPTION:Election Days Open – Nov. 4 & 5\, Mon & Tues we will be OPEN all classes and hold day camps. We will have camps 8:30AM – 2:30PM (Free extended hours 7AM – 6PM) for $45/day. Fun and exciting\, all-day camps for your kids with TaeKwonDo class while you work/vote!
URL:https://chotkd.com/event/election-days-open/
END:VEVENT
END:VCALENDAR