BEGIN:VCALENDAR
VERSION:2.0
PRODID:-//CHO'S TAEKWONDO - ECPv6.3.3.1//NONSGML v1.0//EN
CALSCALE:GREGORIAN
METHOD:PUBLISH
X-WR-CALNAME:CHO'S TAEKWONDO
X-ORIGINAL-URL:https://chotkd.com
X-WR-CALDESC:Events for CHO'S TAEKWONDO
REFRESH-INTERVAL;VALUE=DURATION:PT1H
X-Robots-Tag:noindex
X-PUBLISHED-TTL:PT1H
BEGIN:VTIMEZONE
TZID:UTC
BEGIN:STANDARD
TZOFFSETFROM:+0000
TZOFFSETTO:+0000
TZNAME:UTC
DTSTART:20240101T000000
END:STANDARD
END:VTIMEZONE
BEGIN:VEVENT
DTSTART;TZID=UTC:20241029T180000
DTEND;TZID=UTC:20241029T193000
DTSTAMP:20260420T131257
CREATED:20241009T002923Z
LAST-MODIFIED:20241016T221238Z
UID:5398-1730224800-1730230200@chotkd.com
SUMMARY:Cho's Halloween Party & Bring a Friend
DESCRIPTION:Cho’s Halloween Party & Bring a Friend – Oct 29\, 6-7:30 PM. Bring all of your friends for our annual Halloween Party with fun filled games and dancing with plenty of candy given out. Dress up in your spooky outfits for our costume contest to win awesome prizes! Everyone is welcome! Pizza and drinks will be provided and it will be potluck so bring food to share!
URL:https://chotkd.com/event/chos-halloween-party-bring-a-friend/
END:VEVENT
END:VCALENDAR