BEGIN:VCALENDAR
VERSION:2.0
PRODID:-//CHO'S TAEKWONDO - ECPv6.3.3.1//NONSGML v1.0//EN
CALSCALE:GREGORIAN
METHOD:PUBLISH
X-ORIGINAL-URL:https://chotkd.com
X-WR-CALDESC:Events for CHO'S TAEKWONDO
REFRESH-INTERVAL;VALUE=DURATION:PT1H
X-Robots-Tag:noindex
X-PUBLISHED-TTL:PT1H
BEGIN:VTIMEZONE
TZID:UTC
BEGIN:STANDARD
TZOFFSETFROM:+0000
TZOFFSETTO:+0000
TZNAME:UTC
DTSTART:20240101T000000
END:STANDARD
END:VTIMEZONE
BEGIN:VEVENT
DTSTART;TZID=UTC:20241014T070000
DTEND;TZID=UTC:20241014T180000
DTSTAMP:20260420T131542
CREATED:20241009T002658Z
LAST-MODIFIED:20241009T002658Z
UID:5390-1728889200-1728928800@chotkd.com
SUMMARY:Columbus Day Camp Oct 14
DESCRIPTION:Columbus Day Camps – Oct 11 & 14\, Fri & Mon 8:30AM – 2:30PM (Free extended hours 7AM – 6PM) $45/day. Fun and exciting\, all-day camp for your kids with TaeKwonDo class while you work!
URL:https://chotkd.com/event/columbus-day-camp-oct-14/
END:VEVENT
END:VCALENDAR