BEGIN:VCALENDAR
VERSION:2.0
PRODID:-//CHO'S TAEKWONDO - ECPv6.3.3.1//NONSGML v1.0//EN
CALSCALE:GREGORIAN
METHOD:PUBLISH
X-ORIGINAL-URL:https://chotkd.com
X-WR-CALDESC:Events for CHO'S TAEKWONDO
REFRESH-INTERVAL;VALUE=DURATION:PT1H
X-Robots-Tag:noindex
X-PUBLISHED-TTL:PT1H
BEGIN:VTIMEZONE
TZID:UTC
BEGIN:STANDARD
TZOFFSETFROM:+0000
TZOFFSETTO:+0000
TZNAME:UTC
DTSTART:20240101T000000
END:STANDARD
END:VTIMEZONE
BEGIN:VEVENT
DTSTART;TZID=UTC:20240605T080000
DTEND;TZID=UTC:20240813T170000
DTSTAMP:20260420T101414
CREATED:20240605T225509Z
LAST-MODIFIED:20240605T225509Z
UID:5093-1717574400-1723568400@chotkd.com
SUMMARY:Summer Camp Ongoing
DESCRIPTION:Summer Camp –Sign up now for our ongoing affordable and exciting Summer Camp which runs until Aug. 13th. Includes multiple TaeKwonDo classes\, fun activities\, and planned field trips to the swimming pool\, movies\, and others.
URL:https://chotkd.com/event/summer-camp-ongoing/
END:VEVENT
BEGIN:VEVENT
DTSTART;VALUE=DATE:20240807
DTEND;VALUE=DATE:20240831
DTSTAMP:20260420T101414
CREATED:20240807T221406Z
LAST-MODIFIED:20240807T221406Z
UID:5165-1722988800-1725062399@chotkd.com
SUMMARY:Back to School Special!
DESCRIPTION:Back to School Special – Tell your friends about our deal: free trial\, free uniform\, and first week of classes free! Receive free gear when you refer a friend. Bring as many friends as you like!
URL:https://chotkd.com/event/back-to-school-special-2/
END:VEVENT
END:VCALENDAR