BEGIN:VCALENDAR
VERSION:2.0
PRODID:-//CHO'S TAEKWONDO - ECPv6.3.3.1//NONSGML v1.0//EN
CALSCALE:GREGORIAN
METHOD:PUBLISH
X-ORIGINAL-URL:https://chotkd.com
X-WR-CALDESC:Events for CHO'S TAEKWONDO
REFRESH-INTERVAL;VALUE=DURATION:PT1H
X-Robots-Tag:noindex
X-PUBLISHED-TTL:PT1H
BEGIN:VTIMEZONE
TZID:UTC
BEGIN:STANDARD
TZOFFSETFROM:+0000
TZOFFSETTO:+0000
TZNAME:UTC
DTSTART:20230101T000000
END:STANDARD
END:VTIMEZONE
BEGIN:VEVENT
DTSTART;TZID=UTC:20231021T120000
DTEND;TZID=UTC:20231021T130000
DTSTAMP:20260419T235520
CREATED:20231010T230107Z
LAST-MODIFIED:20231010T230107Z
UID:4703-1697889600-1697893200@chotkd.com
SUMMARY:Belt Test Oct 21st
DESCRIPTION:Belt Test – Oct 21st\, Sat. 12-1 PM. Belt test for all belts/ages. Please submit your form and pay before test day.
URL:https://chotkd.com/event/belt-test-oct-21st/
END:VEVENT
END:VCALENDAR