BEGIN:VCALENDAR
VERSION:2.0
PRODID:-//CHO'S TAEKWONDO - ECPv6.3.3.1//NONSGML v1.0//EN
CALSCALE:GREGORIAN
METHOD:PUBLISH
X-ORIGINAL-URL:https://chotkd.com
X-WR-CALDESC:Events for CHO'S TAEKWONDO
REFRESH-INTERVAL;VALUE=DURATION:PT1H
X-Robots-Tag:noindex
X-PUBLISHED-TTL:PT1H
BEGIN:VTIMEZONE
TZID:UTC
BEGIN:STANDARD
TZOFFSETFROM:+0000
TZOFFSETTO:+0000
TZNAME:UTC
DTSTART:20230101T000000
END:STANDARD
END:VTIMEZONE
BEGIN:VEVENT
DTSTART;TZID=UTC:20231007T100000
DTEND;TZID=UTC:20231007T140000
DTSTAMP:20260419T235346
CREATED:20230831T230153Z
LAST-MODIFIED:20230831T230153Z
UID:4624-1696672800-1696687200@chotkd.com
SUMMARY:INNER SCHOOL TOURNAMENT
DESCRIPTION:INNER SCHOOL TOURNAMENT – Oct. 7th\, Sat. 10 AM – 12 PM Forms\, 12:30 PM – 2 PM Sparring. Compete for the Gold with our school students and get competitive experience.
URL:https://chotkd.com/event/inner-school-tournament-2/
END:VEVENT
END:VCALENDAR