BEGIN:VCALENDAR
VERSION:2.0
PRODID:-//CHO'S TAEKWONDO - ECPv6.3.3.1//NONSGML v1.0//EN
CALSCALE:GREGORIAN
METHOD:PUBLISH
X-ORIGINAL-URL:https://chotkd.com
X-WR-CALDESC:Events for CHO'S TAEKWONDO
REFRESH-INTERVAL;VALUE=DURATION:PT1H
X-Robots-Tag:noindex
X-PUBLISHED-TTL:PT1H
BEGIN:VTIMEZONE
TZID:UTC
BEGIN:STANDARD
TZOFFSETFROM:+0000
TZOFFSETTO:+0000
TZNAME:UTC
DTSTART:20230101T000000
END:STANDARD
END:VTIMEZONE
BEGIN:VEVENT
DTSTART;TZID=UTC:20230529T070000
DTEND;TZID=UTC:20230529T180000
DTSTAMP:20260420T101414
CREATED:20230522T211019Z
LAST-MODIFIED:20230522T211019Z
UID:4506-1685343600-1685383200@chotkd.com
SUMMARY:Memorial Day - CLOSED
DESCRIPTION:We will be CLOSED Memorial Day 5/29/23.\nPlease have a fun and safe weekend then make up your class on a different day.
URL:https://chotkd.com/event/memorial-day-closed/
END:VEVENT
END:VCALENDAR