BEGIN:VCALENDAR
VERSION:2.0
PRODID:-//CHO'S TAEKWONDO - ECPv6.3.3.1//NONSGML v1.0//EN
CALSCALE:GREGORIAN
METHOD:PUBLISH
X-ORIGINAL-URL:https://chotkd.com
X-WR-CALDESC:Events for CHO'S TAEKWONDO
REFRESH-INTERVAL;VALUE=DURATION:PT1H
X-Robots-Tag:noindex
X-PUBLISHED-TTL:PT1H
BEGIN:VTIMEZONE
TZID:UTC
BEGIN:STANDARD
TZOFFSETFROM:+0000
TZOFFSETTO:+0000
TZNAME:UTC
DTSTART:20230101T000000
END:STANDARD
END:VTIMEZONE
BEGIN:VEVENT
DTSTART;TZID=UTC:20230526T183000
DTEND;TZID=UTC:20230526T213000
DTSTAMP:20260421T101413
CREATED:20230503T225239Z
LAST-MODIFIED:20230503T225239Z
UID:4491-1685125800-1685136600@chotkd.com
SUMMARY:Buddy Camp / Parent’s Night Out
DESCRIPTION:Buddy Camp / Parent’s Night Out – May 26th 6:30-9:30PM. Fun night of TKD class\, activities and pizza. Students $25\, guests $15.
URL:https://chotkd.com/event/buddy-camp-parents-night-out-2/
END:VEVENT
END:VCALENDAR