BEGIN:VCALENDAR
VERSION:2.0
PRODID:-//CHO'S TAEKWONDO - ECPv6.3.3.1//NONSGML v1.0//EN
CALSCALE:GREGORIAN
METHOD:PUBLISH
X-WR-CALNAME:CHO'S TAEKWONDO
X-ORIGINAL-URL:https://chotkd.com
X-WR-CALDESC:Events for CHO'S TAEKWONDO
REFRESH-INTERVAL;VALUE=DURATION:PT1H
X-Robots-Tag:noindex
X-PUBLISHED-TTL:PT1H
BEGIN:VTIMEZONE
TZID:UTC
BEGIN:STANDARD
TZOFFSETFROM:+0000
TZOFFSETTO:+0000
TZNAME:UTC
DTSTART:20230101T000000
END:STANDARD
END:VTIMEZONE
BEGIN:VEVENT
DTSTART;TZID=UTC:20230525T153000
DTEND;TZID=UTC:20230525T183000
DTSTAMP:20260421T101105
CREATED:20230503T225206Z
LAST-MODIFIED:20230503T225206Z
UID:4489-1685028600-1685039400@chotkd.com
SUMMARY:End of School Party for ASP
DESCRIPTION:End of School Party for ASP – May 25th\, Last day of school party for After School Program.
URL:https://chotkd.com/event/end-of-school-party-for-asp/
END:VEVENT
END:VCALENDAR