BEGIN:VCALENDAR
VERSION:2.0
PRODID:-//CHO'S TAEKWONDO - ECPv6.3.3.1//NONSGML v1.0//EN
CALSCALE:GREGORIAN
METHOD:PUBLISH
X-WR-CALNAME:CHO'S TAEKWONDO
X-ORIGINAL-URL:https://chotkd.com
X-WR-CALDESC:Events for CHO'S TAEKWONDO
REFRESH-INTERVAL;VALUE=DURATION:PT1H
X-Robots-Tag:noindex
X-PUBLISHED-TTL:PT1H
BEGIN:VTIMEZONE
TZID:UTC
BEGIN:STANDARD
TZOFFSETFROM:+0000
TZOFFSETTO:+0000
TZNAME:UTC
DTSTART:20230101T000000
END:STANDARD
END:VTIMEZONE
BEGIN:VEVENT
DTSTART;TZID=UTC:20230401T080000
DTEND;TZID=UTC:20230430T170000
DTSTAMP:20260420T175024
CREATED:20230327T214804Z
LAST-MODIFIED:20230327T214804Z
UID:4428-1680336000-1682874000@chotkd.com
SUMMARY:Summer Camp Registration Starts
DESCRIPTION:Summer Camp Registration Starts – starts April 1st . Sign up early for Summer Camp to ensure a spot.  Details on form.
URL:https://chotkd.com/event/summer-camp-registration-starts/
END:VEVENT
BEGIN:VEVENT
DTSTART;TZID=UTC:20230422T120000
DTEND;TZID=UTC:20230422T130000
DTSTAMP:20260420T175024
CREATED:20230327T215145Z
LAST-MODIFIED:20230327T215321Z
UID:4433-1682164800-1682168400@chotkd.com
SUMMARY:Belt Test
DESCRIPTION:Belt Test – April 22nd\,  Sat. 12-1 PM.  Belt test for all belts/ages. Please pay before test day.
URL:https://chotkd.com/event/belt-test-7/
END:VEVENT
END:VCALENDAR